BEGIN:VCALENDAR
VERSION:2.0
PRODID:-//Rafter S Arena - ECPv6.15.20//NONSGML v1.0//EN
CALSCALE:GREGORIAN
METHOD:PUBLISH
X-WR-CALNAME:Rafter S Arena
X-ORIGINAL-URL:https://raftersarena.com
X-WR-CALDESC:Events for Rafter S Arena
REFRESH-INTERVAL;VALUE=DURATION:PT1H
X-Robots-Tag:noindex
X-PUBLISHED-TTL:PT1H
BEGIN:VTIMEZONE
TZID:UTC
BEGIN:STANDARD
TZOFFSETFROM:+0000
TZOFFSETTO:+0000
TZNAME:UTC
DTSTART:20240101T000000
END:STANDARD
END:VTIMEZONE
BEGIN:VEVENT
DTSTART;VALUE=DATE:20250523
DTEND;VALUE=DATE:20250526
DTSTAMP:20260423T071203
CREATED:20250510T163753Z
LAST-MODIFIED:20250510T163753Z
UID:692-1747958400-1748217599@raftersarena.com
SUMMARY:Show Me Summer Sizzler
DESCRIPTION:
URL:https://raftersarena.com/event/show-me-summer-sizzler/
LOCATION:Rafter S Arena\, 30695 Highway 5\, Lebanon\, MO\, 65536\, United States
ATTACH;FMTTYPE=image/jpeg:https://raftersarena.com/wp-content/uploads/2025/05/IMG_6341.jpeg
ORGANIZER;CN="Rafter S Arena":MAILTO:support@raftersarena.com
END:VEVENT
END:VCALENDAR