BEGIN:VCALENDAR
VERSION:2.0
PRODID:-//Rafter S Arena - ECPv6.15.20//NONSGML v1.0//EN
CALSCALE:GREGORIAN
METHOD:PUBLISH
X-WR-CALNAME:Rafter S Arena
X-ORIGINAL-URL:https://raftersarena.com
X-WR-CALDESC:Events for Rafter S Arena
REFRESH-INTERVAL;VALUE=DURATION:PT1H
X-Robots-Tag:noindex
X-PUBLISHED-TTL:PT1H
BEGIN:VTIMEZONE
TZID:UTC
BEGIN:STANDARD
TZOFFSETFROM:+0000
TZOFFSETTO:+0000
TZNAME:UTC
DTSTART:20210101T000000
END:STANDARD
END:VTIMEZONE
BEGIN:VEVENT
DTSTART;TZID=UTC:20220116T090000
DTEND;TZID=UTC:20220116T170000
DTSTAMP:20260420T212234
CREATED:20220106T001712Z
LAST-MODIFIED:20220106T005445Z
UID:215-1642323600-1642352400@raftersarena.com
SUMMARY:Missouri CHA
DESCRIPTION:The term “Cutting” refers to the act of separating one cow from a herd of cattle. The Sport of Cutting involves a horse and a rider and a herd of cattle. \nCattle are herd animals.  One cow will instinctively try to return to the group.  Knowing that\, a horse and rider team will quietly rider into the herd\, select and “cut” off (separate) one cow from the group (letting the unpicked cows return to the herd behind) and then prevent that cow from rejoining the herd – until they decide to let it go.  Keeping the cow separated requires incredible intelligence and physical ability on the part of the horse.  Once the cow is separated\, riders are no longer allowed to use their reins.  Trained cutting horses are required to think on their own and anticipate & react to the cow’s moves.  Teams are judged on many factors including the cut (The competition is judged based on many factors – difficulty and how well the horse anticipates and reacts. This is the only equine competition where the horse is required to think.
URL:https://raftersarena.com/event/missouri-cha-2/
LOCATION:Rafter S Arena\, 30695 Highway 5\, Lebanon\, MO\, 65536\, United States
ORGANIZER;CN="Rafter S Arena":MAILTO:support@raftersarena.com
END:VEVENT
BEGIN:VEVENT
DTSTART;TZID=UTC:20220115T090000
DTEND;TZID=UTC:20220115T170000
DTSTAMP:20260420T212234
CREATED:20220106T000941Z
LAST-MODIFIED:20220106T005502Z
UID:214-1642237200-1642266000@raftersarena.com
SUMMARY:Missouri CHA
DESCRIPTION:The term “Cutting” refers to the act of separating one cow from a herd of cattle. The Sport of Cutting involves a horse and a rider and a herd of cattle. \nCattle are herd animals.  One cow will instinctively try to return to the group.  Knowing that\, a horse and rider team will quietly rider into the herd\, select and “cut” off (separate) one cow from the group (letting the unpicked cows return to the herd behind) and then prevent that cow from rejoining the herd – until they decide to let it go.  Keeping the cow separated requires incredible intelligence and physical ability on the part of the horse.  Once the cow is separated\, riders are no longer allowed to use their reins.  Trained cutting horses are required to think on their own and anticipate & react to the cow’s moves.  Teams are judged on many factors including the cut (The competition is judged based on many factors – difficulty and how well the horse anticipates and reacts. This is the only equine competition where the horse is required to think.
URL:https://raftersarena.com/event/missouri-cha/
LOCATION:Rafter S Arena\, 30695 Highway 5\, Lebanon\, MO\, 65536\, United States
ORGANIZER;CN="Rafter S Arena":MAILTO:support@raftersarena.com
END:VEVENT
END:VCALENDAR