BEGIN:VCALENDAR
VERSION:2.0
PRODID:-//Rafter S Arena - ECPv6.15.20//NONSGML v1.0//EN
CALSCALE:GREGORIAN
METHOD:PUBLISH
X-ORIGINAL-URL:https://raftersarena.com
X-WR-CALDESC:Events for Rafter S Arena
REFRESH-INTERVAL;VALUE=DURATION:PT1H
X-Robots-Tag:noindex
X-PUBLISHED-TTL:PT1H
BEGIN:VTIMEZONE
TZID:UTC
BEGIN:STANDARD
TZOFFSETFROM:+0000
TZOFFSETTO:+0000
TZNAME:UTC
DTSTART:20240101T000000
END:STANDARD
END:VTIMEZONE
BEGIN:VEVENT
DTSTART;TZID=UTC:20250105T140000
DTEND;TZID=UTC:20250105T170000
DTSTAMP:20260423T220555
CREATED:20240926T005512Z
LAST-MODIFIED:20240926T005512Z
UID:641-1736085600-1736096400@raftersarena.com
SUMMARY:Winter Series
DESCRIPTION:
URL:https://raftersarena.com/event/winter-series-2/
LOCATION:Rafter S Arena\, 30695 Highway 5\, Lebanon\, MO\, 65536\, United States
ATTACH;FMTTYPE=image/jpeg:https://raftersarena.com/wp-content/uploads/2024/09/IMG_4313.jpeg
ORGANIZER;CN="Rafter S Arena":MAILTO:support@raftersarena.com
END:VEVENT
BEGIN:VEVENT
DTSTART;VALUE=DATE:20250117
DTEND;VALUE=DATE:20250119
DTSTAMP:20260423T220555
CREATED:20241017T124208Z
LAST-MODIFIED:20241017T124208Z
UID:655-1737072000-1737244799@raftersarena.com
SUMMARY:Rafter S Christian Rodeo
DESCRIPTION:More Info to come!
URL:https://raftersarena.com/event/rafter-s-christian-rodeo-9/
LOCATION:Rafter S Arena\, 30695 Highway 5\, Lebanon\, MO\, 65536\, United States
ATTACH;FMTTYPE=image/jpeg:https://raftersarena.com/wp-content/uploads/2024/10/Untitled_Artwork.jpeg
ORGANIZER;CN="Rafter S Arena":MAILTO:support@raftersarena.com
END:VEVENT
BEGIN:VEVENT
DTSTART;TZID=UTC:20250130T190000
DTEND;TZID=UTC:20250130T233000
DTSTAMP:20260423T220555
CREATED:20250130T162711Z
LAST-MODIFIED:20250130T162711Z
UID:671-1738263600-1738279800@raftersarena.com
SUMMARY:Team Roping
DESCRIPTION:
URL:https://raftersarena.com/event/team-roping-8/
LOCATION:Rafter S Arena\, 30695 Highway 5\, Lebanon\, MO\, 65536\, United States
ATTACH;FMTTYPE=image/jpeg:https://raftersarena.com/wp-content/uploads/2025/01/IMG_4776.jpeg
ORGANIZER;CN="Rafter S Arena":MAILTO:support@raftersarena.com
END:VEVENT
BEGIN:VEVENT
DTSTART;TZID=UTC:20250131T180000
DTEND;TZID=UTC:20250131T233000
DTSTAMP:20260423T220555
CREATED:20250130T162909Z
LAST-MODIFIED:20250130T162909Z
UID:674-1738346400-1738366200@raftersarena.com
SUMMARY:Roping
DESCRIPTION:
URL:https://raftersarena.com/event/roping-4/
LOCATION:Rafter S Arena\, 30695 Highway 5\, Lebanon\, MO\, 65536\, United States
ATTACH;FMTTYPE=image/jpeg:https://raftersarena.com/wp-content/uploads/2025/01/IMG_4785.jpeg
ORGANIZER;CN="Rafter S Arena":MAILTO:support@raftersarena.com
END:VEVENT
END:VCALENDAR