BEGIN:VCALENDAR
VERSION:2.0
PRODID:-//Rafter S Arena - ECPv6.15.20//NONSGML v1.0//EN
CALSCALE:GREGORIAN
METHOD:PUBLISH
X-ORIGINAL-URL:https://raftersarena.com
X-WR-CALDESC:Events for Rafter S Arena
REFRESH-INTERVAL;VALUE=DURATION:PT1H
X-Robots-Tag:noindex
X-PUBLISHED-TTL:PT1H
BEGIN:VTIMEZONE
TZID:UTC
BEGIN:STANDARD
TZOFFSETFROM:+0000
TZOFFSETTO:+0000
TZNAME:UTC
DTSTART:20240101T000000
END:STANDARD
END:VTIMEZONE
BEGIN:VEVENT
DTSTART;TZID=UTC:20250302T140000
DTEND;TZID=UTC:20250302T170000
DTSTAMP:20260423T100237
CREATED:20240926T005806Z
LAST-MODIFIED:20240926T005806Z
UID:645-1740924000-1740934800@raftersarena.com
SUMMARY:Winter Series
DESCRIPTION:
URL:https://raftersarena.com/event/winter-series-4/
LOCATION:Rafter S Arena\, 30695 Highway 5\, Lebanon\, MO\, 65536\, United States
ATTACH;FMTTYPE=image/jpeg:https://raftersarena.com/wp-content/uploads/2024/09/IMG_4313.jpeg
ORGANIZER;CN="Rafter S Arena":MAILTO:support@raftersarena.com
END:VEVENT
BEGIN:VEVENT
DTSTART;VALUE=DATE:20250314
DTEND;VALUE=DATE:20250317
DTSTAMP:20260423T100237
CREATED:20250227T014849Z
LAST-MODIFIED:20250227T014849Z
UID:680-1741910400-1742169599@raftersarena.com
SUMMARY:Show Me Some Luck
DESCRIPTION:
URL:https://raftersarena.com/event/show-me-some-luck/
LOCATION:Rafter S Arena\, 30695 Highway 5\, Lebanon\, MO\, 65536\, United States
ATTACH;FMTTYPE=image/jpeg:https://raftersarena.com/wp-content/uploads/2025/02/IMG_5138.jpeg
ORGANIZER;CN="Rafter S Arena":MAILTO:support@raftersarena.com
END:VEVENT
END:VCALENDAR