BEGIN:VCALENDAR
VERSION:2.0
PRODID:-//Rafter S Arena - ECPv6.15.20//NONSGML v1.0//EN
CALSCALE:GREGORIAN
METHOD:PUBLISH
X-WR-CALNAME:Rafter S Arena
X-ORIGINAL-URL:https://raftersarena.com
X-WR-CALDESC:Events for Rafter S Arena
REFRESH-INTERVAL;VALUE=DURATION:PT1H
X-Robots-Tag:noindex
X-PUBLISHED-TTL:PT1H
BEGIN:VTIMEZONE
TZID:UTC
BEGIN:STANDARD
TZOFFSETFROM:+0000
TZOFFSETTO:+0000
TZNAME:UTC
DTSTART:20240101T000000
END:STANDARD
END:VTIMEZONE
BEGIN:VTIMEZONE
TZID:America/Chicago
BEGIN:DAYLIGHT
TZOFFSETFROM:-0600
TZOFFSETTO:-0500
TZNAME:CDT
DTSTART:20240310T080000
END:DAYLIGHT
BEGIN:STANDARD
TZOFFSETFROM:-0500
TZOFFSETTO:-0600
TZNAME:CST
DTSTART:20241103T070000
END:STANDARD
BEGIN:DAYLIGHT
TZOFFSETFROM:-0600
TZOFFSETTO:-0500
TZNAME:CDT
DTSTART:20250309T080000
END:DAYLIGHT
BEGIN:STANDARD
TZOFFSETFROM:-0500
TZOFFSETTO:-0600
TZNAME:CST
DTSTART:20251102T070000
END:STANDARD
BEGIN:DAYLIGHT
TZOFFSETFROM:-0600
TZOFFSETTO:-0500
TZNAME:CDT
DTSTART:20260308T080000
END:DAYLIGHT
BEGIN:STANDARD
TZOFFSETFROM:-0500
TZOFFSETTO:-0600
TZNAME:CST
DTSTART:20261101T070000
END:STANDARD
END:VTIMEZONE
BEGIN:VEVENT
DTSTART;VALUE=DATE:20251101
DTEND;VALUE=DATE:20251103
DTSTAMP:20260420T221602
CREATED:20251003T153036Z
LAST-MODIFIED:20251003T153036Z
UID:711-1761955200-1762127999@raftersarena.com
SUMMARY:Trail To The Cross
DESCRIPTION:
URL:https://raftersarena.com/event/trail-to-the-cross-2/
LOCATION:Rafter S Arena\, 30695 Highway 5\, Lebanon\, MO\, 65536\, United States
ATTACH;FMTTYPE=image/jpeg:https://raftersarena.com/wp-content/uploads/2025/10/IMG_7831.jpeg
ORGANIZER;CN="Rafter S Arena":MAILTO:support@raftersarena.com
END:VEVENT
BEGIN:VEVENT
DTSTART;TZID=America/Chicago:20251107T190000
DTEND;TZID=America/Chicago:20251107T233000
DTSTAMP:20260420T221602
CREATED:20251103T180728Z
LAST-MODIFIED:20251103T180728Z
UID:729-1762542000-1762558200@raftersarena.com
SUMMARY:Team Roping
DESCRIPTION:
URL:https://raftersarena.com/event/team-roping-9/
LOCATION:Rafter S Arena\, 30695 Highway 5\, Lebanon\, MO\, 65536\, United States
ATTACH;FMTTYPE=image/jpeg:https://raftersarena.com/wp-content/uploads/2025/11/IMG_2437-scaled.jpeg
ORGANIZER;CN="Rafter S Arena":MAILTO:support@raftersarena.com
END:VEVENT
BEGIN:VEVENT
DTSTART;TZID=UTC:20251108T140000
DTEND;TZID=UTC:20251108T233000
DTSTAMP:20260420T221602
CREATED:20251009T192640Z
LAST-MODIFIED:20251013T145232Z
UID:718-1762610400-1762644600@raftersarena.com
SUMMARY:Kerry Kile Benefit Rodeo
DESCRIPTION:
URL:https://raftersarena.com/event/kerry-kile-benefit-rodeo/
LOCATION:Rafter S Arena\, 30695 Highway 5\, Lebanon\, MO\, 65536\, United States
ATTACH;FMTTYPE=image/jpeg:https://raftersarena.com/wp-content/uploads/2025/10/IMG_8006.jpeg
ORGANIZER;CN="Rafter S Arena":MAILTO:support@raftersarena.com
END:VEVENT
BEGIN:VEVENT
DTSTART;VALUE=DATE:20251114
DTEND;VALUE=DATE:20251116
DTSTAMP:20260420T221602
CREATED:20251110T195002Z
LAST-MODIFIED:20251110T195002Z
UID:735-1763078400-1763251199@raftersarena.com
SUMMARY:Rafter S Christian Rodeo
DESCRIPTION:November 14th @ 6:00pm \nNovember 15th @ 5:00pm
URL:https://raftersarena.com/event/rafter-s-christian-rodeo-13/
LOCATION:Rafter S Arena\, 30695 Highway 5\, Lebanon\, MO\, 65536\, United States
ATTACH;FMTTYPE=image/jpeg:https://raftersarena.com/wp-content/uploads/2025/11/IMG_8111.jpeg
ORGANIZER;CN="Rafter S Arena":MAILTO:support@raftersarena.com
END:VEVENT
END:VCALENDAR